BEGIN:VCALENDAR
VERSION:2.0
PRODID:-//ChamberMaster//Event Calendar 2.0//EN
METHOD:PUBLISH
X-PUBLISHED-TTL:P3D
REFRESH-INTERVAL:P3D
CALSCALE:GREGORIAN
BEGIN:VEVENT
DTSTART:20250424T160000Z
DTEND:20250424T170000Z
X-MICROSOFT-CDO-ALLDAYEVENT:FALSE
SUMMARY:Young Professionals Luncheon
DESCRIPTION:Speaker: Mayor Billy Cantrell
X-ALT-DESC;FMTTYPE=text/html:Speaker: Mayor Billy Cantrell
LOCATION:Eton City Hall 3464 US-411 Chatsworth\, GA 30705
UID:e.3373.2714
SEQUENCE:3
DTSTAMP:20260422T131105Z
URL:https://murraycm.365dtm.com/events/details/young-professionals-luncheon-2714
END:VEVENT

END:VCALENDAR
