BEGIN:VCALENDAR
VERSION:2.0
PRODID:-//ChamberMaster//Event Calendar 2.0//EN
METHOD:PUBLISH
X-PUBLISHED-TTL:P3D
REFRESH-INTERVAL:P3D
CALSCALE:GREGORIAN
BEGIN:VEVENT
DTSTART:20250522T160000Z
DTEND:20250522T170000Z
X-MICROSOFT-CDO-ALLDAYEVENT:FALSE
SUMMARY:Young Professionals Luncehon
DESCRIPTION:YP Luncheon\n\nSpeaker: Sam Dindoffer
X-ALT-DESC;FMTTYPE=text/html:YP Luncheon<br />\nSpeaker: Sam Dindoffer
LOCATION:Rock Bridge Chatsworth Location
UID:e.3373.2715
SEQUENCE:3
DTSTAMP:20260422T113309Z
URL:https://murraycm.365dtm.com/events/details/young-professionals-luncehon-2715
END:VEVENT

END:VCALENDAR
