BEGIN:VCALENDAR
VERSION:2.0
PRODID:-//ChamberMaster//Event Calendar 2.0//EN
METHOD:PUBLISH
X-PUBLISHED-TTL:P3D
REFRESH-INTERVAL:P3D
CALSCALE:GREGORIAN
BEGIN:VEVENT
DTSTART:20250925T160000Z
DTEND:20250925T170000Z
X-MICROSOFT-CDO-ALLDAYEVENT:FALSE
SUMMARY:Young Professional's Luncheon
DESCRIPTION:Speaker: Michael Williams
X-ALT-DESC;FMTTYPE=text/html:Speaker: Michael Williams
LOCATION:Rock Bridge of Chatsworth
UID:e.3373.2734
SEQUENCE:3
DTSTAMP:20260422T053816Z
URL:https://murraycm.365dtm.com/events/details/young-professional-s-luncheon-2734
END:VEVENT

END:VCALENDAR
