BEGIN:VCALENDAR
VERSION:2.0
PRODID:-//ChamberMaster//Event Calendar 2.0//EN
METHOD:PUBLISH
X-PUBLISHED-TTL:P3D
REFRESH-INTERVAL:P3D
CALSCALE:GREGORIAN
BEGIN:VEVENT
DTSTART:20251211T133000Z
DTEND:20251211T203000Z
X-MICROSOFT-CDO-ALLDAYEVENT:FALSE
SUMMARY:Women In Leadership Summit
DESCRIPTION:
X-ALT-DESC;FMTTYPE=text/html:
LOCATION:Rock Bridge Community Church - Chatsworth
UID:e.3373.2739
SEQUENCE:3
DTSTAMP:20260422T010309Z
URL:https://murraycm.365dtm.com/events/details/women-in-leadership-summit-2739
END:VEVENT

END:VCALENDAR
