BEGIN:VCALENDAR
VERSION:2.0
PRODID:-//ChamberMaster//Event Calendar 2.0//EN
METHOD:PUBLISH
X-PUBLISHED-TTL:P3D
REFRESH-INTERVAL:P3D
CALSCALE:GREGORIAN
BEGIN:VEVENT
DTSTART:20251016T160000Z
DTEND:20251016T170000Z
X-MICROSOFT-CDO-ALLDAYEVENT:FALSE
SUMMARY:Women In Leadership
DESCRIPTION:Speaker: Brittany Pittman
X-ALT-DESC;FMTTYPE=text/html:Speaker: Brittany Pittman
LOCATION:Rock Bridge Community Church of Chatsworth
UID:e.3373.2728
SEQUENCE:3
DTSTAMP:20260422T054122Z
URL:https://murraycm.365dtm.com/events/details/women-in-leadership-2728
END:VEVENT

END:VCALENDAR
