BEGIN:VCALENDAR
VERSION:2.0
PRODID:-//ChamberMaster//Event Calendar 2.0//EN
METHOD:PUBLISH
X-PUBLISHED-TTL:P3D
REFRESH-INTERVAL:P3D
CALSCALE:GREGORIAN
BEGIN:VEVENT
DTSTART:20250918T160000Z
DTEND:20250918T170000Z
X-MICROSOFT-CDO-ALLDAYEVENT:FALSE
SUMMARY:Women In Leadership
DESCRIPTION:Speaker: Sandy McKenzie
X-ALT-DESC;FMTTYPE=text/html:Speaker: Sandy McKenzie
LOCATION:Rock Bridge Community Church of Chatsworth
UID:e.3373.2727
SEQUENCE:3
DTSTAMP:20260422T065437Z
URL:https://murraycm.365dtm.com/events/details/women-in-leadership-2727
END:VEVENT

END:VCALENDAR
