BEGIN:VCALENDAR
VERSION:2.0
PRODID:-//ChamberMaster//Event Calendar 2.0//EN
METHOD:PUBLISH
X-PUBLISHED-TTL:P3D
REFRESH-INTERVAL:P3D
CALSCALE:GREGORIAN
BEGIN:VEVENT
DTSTART:20250821T160000Z
DTEND:20250821T170000Z
X-MICROSOFT-CDO-ALLDAYEVENT:FALSE
SUMMARY:Women In Leadership
DESCRIPTION:Speaker: Lisa Nash
X-ALT-DESC;FMTTYPE=text/html:Speaker: Lisa Nash
LOCATION:Rock Bridge Community Church of Chatsworth
UID:e.3373.2726
SEQUENCE:3
DTSTAMP:20260422T065415Z
URL:https://murraycm.365dtm.com/events/details/women-in-leadership-2726
END:VEVENT

END:VCALENDAR
