BEGIN:VCALENDAR
VERSION:2.0
PRODID:-//ChamberMaster//Event Calendar 2.0//EN
METHOD:PUBLISH
X-PUBLISHED-TTL:P3D
REFRESH-INTERVAL:P3D
CALSCALE:GREGORIAN
BEGIN:VEVENT
DTSTART:20250220T170000Z
DTEND:20250220T180000Z
X-MICROSOFT-CDO-ALLDAYEVENT:FALSE
SUMMARY:Women In Leadership
DESCRIPTION:Speaker: Andy Hill with Red Eyed Rooster & Crown Craft Market
X-ALT-DESC;FMTTYPE=text/html:Speaker: Andy Hill with Red Eyed Rooster &amp\; Crown Craft Market
LOCATION:Rock Bridge Community Church of Chatsworth
UID:e.3373.2711
SEQUENCE:3
DTSTAMP:20260422T161931Z
URL:https://murraycm.365dtm.com/events/details/women-in-leadership-2711
END:VEVENT

END:VCALENDAR
