BEGIN:VCALENDAR
VERSION:2.0
PRODID:-//ChamberMaster//Event Calendar 2.0//EN
METHOD:PUBLISH
X-PUBLISHED-TTL:P3D
REFRESH-INTERVAL:P3D
CALSCALE:GREGORIAN
BEGIN:VEVENT
DTSTART:20260204T210000Z
DTEND:20260204T213000Z
X-MICROSOFT-CDO-ALLDAYEVENT:FALSE
SUMMARY:Ribbon Cutting Here Local Media
DESCRIPTION:Ribbon Cutting for Here Local Media
X-ALT-DESC;FMTTYPE=text/html:Ribbon Cutting for Here Local Media&nbsp\;
LOCATION:126 N Third Ave Chatsworth\, GA
UID:e.3373.2746
SEQUENCE:3
DTSTAMP:20260421T222831Z
URL:https://murraycm.365dtm.com/events/details/ribbon-cutting-here-local-media-2746
END:VEVENT

END:VCALENDAR
