BEGIN:VCALENDAR
VERSION:2.0
PRODID:-//ChamberMaster//Event Calendar 2.0//EN
METHOD:PUBLISH
X-PUBLISHED-TTL:P3D
REFRESH-INTERVAL:P3D
CALSCALE:GREGORIAN
BEGIN:VEVENT
DTSTART:20250612T203000Z
DTEND:20250612T210000Z
X-MICROSOFT-CDO-ALLDAYEVENT:FALSE
SUMMARY:Ribbon Cutting for Xpress Postal
DESCRIPTION:
X-ALT-DESC;FMTTYPE=text/html:
LOCATION:1415 HWY 76 Chatsworth\, GA 30705
UID:e.3373.2720
SEQUENCE:3
DTSTAMP:20260422T095652Z
URL:https://murraycm.365dtm.com/events/details/ribbon-cutting-for-xpress-postal-2720
END:VEVENT

END:VCALENDAR
