BEGIN:VCALENDAR
VERSION:2.0
PRODID:-//ChamberMaster//Event Calendar 2.0//EN
METHOD:PUBLISH
X-PUBLISHED-TTL:P3D
REFRESH-INTERVAL:P3D
CALSCALE:GREGORIAN
BEGIN:VEVENT
DTSTART:20250626T203000Z
DTEND:20250626T210000Z
X-MICROSOFT-CDO-ALLDAYEVENT:FALSE
SUMMARY:Ribbon Cutting for The Oil Squad
DESCRIPTION:
X-ALT-DESC;FMTTYPE=text/html:
LOCATION:
UID:e.3373.2723
SEQUENCE:3
DTSTAMP:20260422T100900Z
URL:https://murraycm.365dtm.com/events/details/ribbon-cutting-for-the-oil-squad-2723
END:VEVENT

END:VCALENDAR
