BEGIN:VCALENDAR
VERSION:2.0
PRODID:-//ChamberMaster//Event Calendar 2.0//EN
METHOD:PUBLISH
X-PUBLISHED-TTL:P3D
REFRESH-INTERVAL:P3D
CALSCALE:GREGORIAN
BEGIN:VEVENT
DTSTART:20250819T153000Z
DTEND:20250819T160000Z
X-MICROSOFT-CDO-ALLDAYEVENT:FALSE
SUMMARY:Ribbon Cutting for Selling North Georgia
DESCRIPTION:Ribbon Cutting for Selling North Georgia
X-ALT-DESC;FMTTYPE=text/html:Ribbon Cutting for Selling North Georgia
LOCATION:2716 Cleveland Hwy Dalton\, GA
UID:e.3373.2724
SEQUENCE:3
DTSTAMP:20260422T084028Z
URL:https://murraycm.365dtm.com/events/details/ribbon-cutting-for-selling-north-georgia-2724
END:VEVENT

END:VCALENDAR
