BEGIN:VCALENDAR
VERSION:2.0
PRODID:-//ChamberMaster//Event Calendar 2.0//EN
METHOD:PUBLISH
X-PUBLISHED-TTL:P3D
REFRESH-INTERVAL:P3D
CALSCALE:GREGORIAN
BEGIN:VEVENT
DTSTART:20250721T150000Z
DTEND:20250721T160000Z
X-MICROSOFT-CDO-ALLDAYEVENT:FALSE
SUMMARY:Ribbon Cutting for Fort Mountain Equestrian Trails
DESCRIPTION:Ribbon Cutting for Fort Mountain Equestrian Trails\n\n\n\nRefreshments will be provided.
X-ALT-DESC;FMTTYPE=text/html:Ribbon Cutting for Fort Mountain Equestrian Trails<br />\n<br />\nRefreshments will be provided.&nbsp\;
LOCATION:19 Emitt McGill Rd Chatsworth\, GA 30705
UID:e.3373.2725
SEQUENCE:3
DTSTAMP:20260422T083934Z
URL:https://murraycm.365dtm.com/events/details/ribbon-cutting-for-fort-mountain-equestrian-trails-2725
END:VEVENT

END:VCALENDAR
