BEGIN:VCALENDAR
VERSION:2.0
PRODID:-//ChamberMaster//Event Calendar 2.0//EN
METHOD:PUBLISH
X-PUBLISHED-TTL:P3D
REFRESH-INTERVAL:P3D
CALSCALE:GREGORIAN
BEGIN:VEVENT
DTSTART:20250522T203000Z
DTEND:20250522T210000Z
X-MICROSOFT-CDO-ALLDAYEVENT:FALSE
SUMMARY:New Horizon Ribbon Cutting
DESCRIPTION:
X-ALT-DESC;FMTTYPE=text/html:
LOCATION:1475 HWY 76 Suite 4 Chatsworth\, GA 30705
UID:e.3373.2719
SEQUENCE:3
DTSTAMP:20260422T113153Z
URL:https://murraycm.365dtm.com/events/details/new-horizon-ribbon-cutting-2719
END:VEVENT

END:VCALENDAR
