BEGIN:VCALENDAR
VERSION:2.0
PRODID:-//ChamberMaster//Event Calendar 2.0//EN
METHOD:PUBLISH
X-PUBLISHED-TTL:P3D
REFRESH-INTERVAL:P3D
CALSCALE:GREGORIAN
BEGIN:VEVENT
DTSTART:20251217T223000Z
DTEND:20251218T003000Z
X-MICROSOFT-CDO-ALLDAYEVENT:FALSE
SUMMARY:Murray Mix & Mingle
DESCRIPTION:YP's Murray Mix & Mingle
X-ALT-DESC;FMTTYPE=text/html:YP&#39\;s Murray Mix &amp\; Mingle
LOCATION:Chatsworth Bakehouse
UID:e.3373.2741
SEQUENCE:3
DTSTAMP:20260422T005754Z
URL:https://murraycm.365dtm.com/events/details/murray-mix-mingle-2741
END:VEVENT

END:VCALENDAR
