BEGIN:VCALENDAR
VERSION:2.0
PRODID:-//ChamberMaster//Event Calendar 2.0//EN
METHOD:PUBLISH
X-PUBLISHED-TTL:P3D
REFRESH-INTERVAL:P3D
CALSCALE:GREGORIAN
BEGIN:VEVENT
DTSTART;VALUE=DATE:20250825
DTEND;VALUE=DATE:20250826
TRANSP:TRANSPARENT
X-MICROSOFT-CDO-ALLDAYEVENT:TRUE
SUMMARY:First National Community Bank 50th Anniversary Celebration
DESCRIPTION:
X-ALT-DESC;FMTTYPE=text/html:
LOCATION:First National Community Bank of Chatsworth 701 N Third Ave Chatsworth\, GA
UID:e.3373.2733
SEQUENCE:3
DTSTAMP:20260422T084021Z
URL:https://murraycm.365dtm.com/events/details/first-national-community-bank-50th-anniversary-celebration-2733
END:VEVENT

END:VCALENDAR
