BEGIN:VCALENDAR
VERSION:2.0
PRODID:-//ChamberMaster//Event Calendar 2.0//EN
METHOD:PUBLISH
X-PUBLISHED-TTL:P3D
REFRESH-INTERVAL:P3D
CALSCALE:GREGORIAN
BEGIN:VEVENT
DTSTART:20250624T160000Z
DTEND:20250624T170000Z
X-MICROSOFT-CDO-ALLDAYEVENT:FALSE
SUMMARY:Economic Forecast Luncheon
DESCRIPTION:Keynote : Chris Clark \, Georgia Chamber of Commerce President & CEO
X-ALT-DESC;FMTTYPE=text/html:Keynote : Chris Clark \, Georgia Chamber of Commerce President &amp\; CEO
LOCATION:Rock Bridge Church Chatsworth
UID:e.3373.2717
SEQUENCE:3
DTSTAMP:20260422T100641Z
URL:https://murraycm.365dtm.com/events/details/economic-forecast-luncheon-2717
END:VEVENT

END:VCALENDAR
