BEGIN:VCALENDAR
VERSION:2.0
PRODID:-//ChamberMaster//Event Calendar 2.0//EN
METHOD:PUBLISH
X-PUBLISHED-TTL:P3D
REFRESH-INTERVAL:P3D
CALSCALE:GREGORIAN
BEGIN:VEVENT
DTSTART:20250306T170000Z
DTEND:20250306T180000Z
X-MICROSOFT-CDO-ALLDAYEVENT:FALSE
SUMMARY:CULTURE CLUB
DESCRIPTION:Culture Club marks a new effort by the chamber to highlight and celebrate the cultural diversity in the local business community.
X-ALT-DESC;FMTTYPE=text/html:Culture Club marks a new effort by the chamber to highlight and celebrate the cultural diversity in the local business community.&nbsp\;
LOCATION:Rock Bridge Community Church of Chatsworth
UID:e.3373.2710
SEQUENCE:3
DTSTAMP:20260422T144017Z
URL:https://murraycm.365dtm.com/events/details/culture-club-2710
END:VEVENT

END:VCALENDAR
