BEGIN:VCALENDAR
VERSION:2.0
PRODID:-//ChamberMaster//Event Calendar 2.0//EN
METHOD:PUBLISH
X-PUBLISHED-TTL:P3D
REFRESH-INTERVAL:P3D
CALSCALE:GREGORIAN
BEGIN:VEVENT
DTSTART:20250529T200000Z
DTEND:20250529T210000Z
X-MICROSOFT-CDO-ALLDAYEVENT:FALSE
SUMMARY:Cash Mob
DESCRIPTION:CASH MOB is a fantastic way to discover hidden gems in our community\, build connections\, and boost the local economy. bring a friend\, bring your wallet\, and bring your community spirit. Let's make an impact\, together!
X-ALT-DESC;FMTTYPE=text/html:<div style="text-align: start\;"><span style="font-size: 12px\; text-align: center\;"><strong>CASH MOB</strong>&nbsp\;</span><strong><span style="font-family: arial\; font-size: 12px\; letter-spacing: -0.02em\; text-align: center\; text-transform: uppercase\; font-weight: 700\;">is a fantastic way to discover hidden gems in our community\, build connections\, and boost the local economy. bring a friend\, bring your wallet\, and bring your community spirit. Let&#39\;s make an impact\, together!</span></strong></div>\n
LOCATION:Murray County Chamber of Commerce
UID:e.3373.2718
SEQUENCE:3
DTSTAMP:20260422T112645Z
URL:https://murraycm.365dtm.com/events/details/cash-mob-2718
END:VEVENT

END:VCALENDAR
