BEGIN:VCALENDAR
VERSION:2.0
PRODID:-//ChamberMaster//Event Calendar 2.0//EN
METHOD:PUBLISH
X-PUBLISHED-TTL:P3D
REFRESH-INTERVAL:P3D
CALSCALE:GREGORIAN
BEGIN:VEVENT
DTSTART;VALUE=DATE:20250905
DTEND;VALUE=DATE:20250906
TRANSP:TRANSPARENT
X-MICROSOFT-CDO-ALLDAYEVENT:TRUE
SUMMARY:'Business On The Greens' Chamber Golf Outing
DESCRIPTION:Shotgun Style Start
X-ALT-DESC;FMTTYPE=text/html:Shotgun Style Start
LOCATION:Spring Lakes Golf Club
UID:e.3373.2730
SEQUENCE:3
DTSTAMP:20260422T054455Z
URL:https://murraycm.365dtm.com/events/details/business-on-the-greens-chamber-golf-outing-2730
END:VEVENT

END:VCALENDAR
