BEGIN:VCALENDAR
VERSION:2.0
PRODID:-//ChamberMaster//Event Calendar 2.0//EN
METHOD:PUBLISH
X-PUBLISHED-TTL:P3D
REFRESH-INTERVAL:P3D
CALSCALE:GREGORIAN
BEGIN:VEVENT
DTSTART:20250606T200000Z
DTEND:20250606T230000Z
X-MICROSOFT-CDO-ALLDAYEVENT:FALSE
SUMMARY:Art On The Alley Social
DESCRIPTION:YP hosted event to reveal the latest mural to Downtown Chatsworth.
X-ALT-DESC;FMTTYPE=text/html:YP hosted event to reveal the latest mural to Downtown Chatsworth.&nbsp\;
LOCATION:Downtown Chatsworth\, behind the Chamber of Commerce.
UID:e.3373.2721
SEQUENCE:3
DTSTAMP:20260422T100045Z
URL:https://murraycm.365dtm.com/events/details/art-on-the-alley-social-2721
END:VEVENT

END:VCALENDAR
